Package: IRanges Version: 2.43.0 Command: /Library/Frameworks/R.framework/Resources/bin/R CMD INSTALL IRanges StartedAt: 2025-07-01 15:27:12 -0400 (Tue, 01 Jul 2025) EndedAt: 2025-07-01 15:28:17 -0400 (Tue, 01 Jul 2025) EllapsedTime: 64.8 seconds RetCode: 0 Status: OK