Package: IRanges Version: 2.43.0 Command: /Library/Frameworks/R.framework/Resources/bin/R CMD check --install=check:IRanges.install-out.txt --library=/Library/Frameworks/R.framework/Resources/library --no-vignettes --timings IRanges_2.43.0.tar.gz StartedAt: 2025-07-01 21:28:52 -0400 (Tue, 01 Jul 2025) EndedAt: 2025-07-01 21:32:16 -0400 (Tue, 01 Jul 2025) EllapsedTime: 203.5 seconds RetCode: 0 Status: WARNINGS CheckDir: IRanges.Rcheck Warnings: 5