Package: IRanges Version: 2.43.0 Command: rm -rf IRanges.buildbin-libdir && mkdir IRanges.buildbin-libdir && /Users/biocbuild/BBS/utils/build-universal.sh IRanges_2.43.0.tar.gz /Library/Frameworks/R.framework/Resources/bin/R IRanges.buildbin-libdir StartedAt: 2025-07-02 01:02:35 -0400 (Wed, 02 Jul 2025) EndedAt: 2025-07-02 01:04:01 -0400 (Wed, 02 Jul 2025) EllapsedTime: 86.4 seconds RetCode: 0 Status: OK PackageFile: IRanges_2.43.0.tgz PackageFileSize: 2.237 MiB