Package: IONiseR Version: 2.33.0 Command: /home/biocbuild/R/R/bin/R CMD INSTALL IONiseR StartedAt: 2025-10-02 21:21:39 -0000 (Thu, 02 Oct 2025) EndedAt: 2025-10-02 21:22:25 -0000 (Thu, 02 Oct 2025) EllapsedTime: 46.1 seconds RetCode: 0 Status: OK