Package: IONiseR Version: 2.33.0 Command: /home/biocbuild/R/R/bin/R CMD check --install=check:IONiseR.install-out.txt --library=/home/biocbuild/R/R/site-library --no-vignettes --timings IONiseR_2.33.0.tar.gz StartedAt: 2025-10-03 08:16:50 -0000 (Fri, 03 Oct 2025) EndedAt: 2025-10-03 08:22:19 -0000 (Fri, 03 Oct 2025) EllapsedTime: 328.4 seconds RetCode: 0 Status: OK CheckDir: IONiseR.Rcheck Warnings: 0