Package: IONiseR Version: 2.33.0 Command: /Library/Frameworks/R.framework/Resources/bin/R CMD INSTALL IONiseR StartedAt: 2025-07-14 15:26:23 -0400 (Mon, 14 Jul 2025) EndedAt: 2025-07-14 15:26:38 -0400 (Mon, 14 Jul 2025) EllapsedTime: 14.4 seconds RetCode: 0 Status: OK