Package: INTACT Version: 1.9.0 Command: /Library/Frameworks/R.framework/Resources/bin/R CMD build --keep-empty-dirs --no-resave-data INTACT StartedAt: 2025-07-11 16:40:10 -0400 (Fri, 11 Jul 2025) EndedAt: 2025-07-11 16:40:15 -0400 (Fri, 11 Jul 2025) EllapsedTime: 5.1 seconds RetCode: 0 Status: OK PackageFile: INTACT_1.9.0.tar.gz PackageFileSize: 2.487 MiB