Package: INSPEcT Version: 1.39.0 Command: /home/biocbuild/R/R/bin/R CMD INSTALL INSPEcT StartedAt: 2025-07-14 21:04:35 -0000 (Mon, 14 Jul 2025) EndedAt: 2025-07-14 21:05:59 -0000 (Mon, 14 Jul 2025) EllapsedTime: 83.6 seconds RetCode: 0 Status: OK