Package: INSPEcT Version: 1.39.0 Command: /home/biocbuild/R/R/bin/R CMD build --keep-empty-dirs --no-resave-data INSPEcT StartedAt: 2025-07-15 00:24:42 -0000 (Tue, 15 Jul 2025) EndedAt: 2025-07-15 00:35:09 -0000 (Tue, 15 Jul 2025) EllapsedTime: 627.3 seconds RetCode: 0 Status: OK PackageFile: INSPEcT_1.39.0.tar.gz PackageFileSize: 57.93 MiB