Package: INSPEcT Version: 1.39.1 Command: /Library/Frameworks/R.framework/Resources/bin/R CMD INSTALL INSPEcT StartedAt: 2025-10-05 15:23:28 -0400 (Sun, 05 Oct 2025) EndedAt: 2025-10-05 15:23:52 -0400 (Sun, 05 Oct 2025) EllapsedTime: 24.0 seconds RetCode: 0 Status: OK