Package: INSPEcT Version: 1.39.1 Command: /Library/Frameworks/R.framework/Resources/bin/R CMD check --install=check:INSPEcT.install-out.txt --library=/Library/Frameworks/R.framework/Resources/library --no-vignettes --timings INSPEcT_1.39.1.tar.gz StartedAt: 2025-10-05 20:04:42 -0400 (Sun, 05 Oct 2025) EndedAt: 2025-10-05 20:09:04 -0400 (Sun, 05 Oct 2025) EllapsedTime: 262.0 seconds RetCode: 0 Status: OK CheckDir: INSPEcT.Rcheck Warnings: 0