Package: INDEED Version: 2.23.0 Command: F:\biocbuild\bbs-3.22-bioc\R\bin\R.exe CMD INSTALL INDEED StartedAt: 2025-07-22 16:25:56 -0400 (Tue, 22 Jul 2025) EndedAt: 2025-07-22 16:26:09 -0400 (Tue, 22 Jul 2025) EllapsedTime: 13.1 seconds RetCode: 0 Status: OK