Package: INDEED Version: 2.23.0 Command: chmod a+r INDEED -R && F:\biocbuild\bbs-3.22-bioc\R\bin\R.exe CMD build --keep-empty-dirs --no-resave-data INDEED StartedAt: 2025-07-22 19:49:29 -0400 (Tue, 22 Jul 2025) EndedAt: 2025-07-22 19:49:48 -0400 (Tue, 22 Jul 2025) EllapsedTime: 19.3 seconds RetCode: 0 Status: OK PackageFile: INDEED_2.23.0.tar.gz PackageFileSize: 1.857 MiB