Package: INDEED Version: 2.23.0 Command: rm -rf INDEED.buildbin-libdir && mkdir INDEED.buildbin-libdir && F:\biocbuild\bbs-3.22-bioc\R\bin\R.exe CMD INSTALL --build --library=INDEED.buildbin-libdir INDEED_2.23.0.tar.gz StartedAt: 2025-07-23 09:21:29 -0400 (Wed, 23 Jul 2025) EndedAt: 2025-07-23 09:21:53 -0400 (Wed, 23 Jul 2025) EllapsedTime: 24.3 seconds RetCode: 0 Status: OK PackageFile: INDEED_2.23.0.zip PackageFileSize: 783 KiB