Package: IMPCdata Version: 1.45.0 Command: /home/biocbuild/R/R/bin/R CMD INSTALL IMPCdata StartedAt: 2025-06-26 20:11:28 -0000 (Thu, 26 Jun 2025) EndedAt: 2025-06-26 20:11:49 -0000 (Thu, 26 Jun 2025) EllapsedTime: 21.4 seconds RetCode: 0 Status: OK