Package: IMPCdata Version: 1.45.0 Command: /home/biocbuild/R/R/bin/R CMD check --install=check:IMPCdata.install-out.txt --library=/home/biocbuild/R/R/site-library --no-vignettes --timings IMPCdata_1.45.0.tar.gz StartedAt: 2025-06-27 08:18:57 -0000 (Fri, 27 Jun 2025) EndedAt: 2025-06-27 08:20:47 -0000 (Fri, 27 Jun 2025) EllapsedTime: 110.1 seconds RetCode: 0 Status: OK CheckDir: IMPCdata.Rcheck Warnings: 0