Package: IMPCdata Version: 1.45.0 Command: /home/biocbuild/R/R/bin/R CMD build --keep-empty-dirs --no-resave-data IMPCdata StartedAt: 2025-06-27 00:17:55 -0000 (Fri, 27 Jun 2025) EndedAt: 2025-06-27 00:19:21 -0000 (Fri, 27 Jun 2025) EllapsedTime: 86.0 seconds RetCode: 0 Status: OK PackageFile: IMPCdata_1.45.0.tar.gz PackageFileSize: 104.5 KiB