Package: IMMAN Version: 1.29.0 Command: /home/biocbuild/R/R/bin/R CMD check --install=check:IMMAN.install-out.txt --library=/home/biocbuild/R/R/site-library --no-vignettes --timings IMMAN_1.29.0.tar.gz StartedAt: 2025-07-11 09:16:57 -0000 (Fri, 11 Jul 2025) EndedAt: 2025-07-11 09:27:01 -0000 (Fri, 11 Jul 2025) EllapsedTime: 604.5 seconds RetCode: 0 Status: OK CheckDir: IMMAN.Rcheck Warnings: 0