Package: IMMAN Version: 1.29.0 Command: /home/biocbuild/R/R/bin/R CMD build --keep-empty-dirs --no-resave-data IMMAN StartedAt: 2025-07-11 01:33:46 -0000 (Fri, 11 Jul 2025) EndedAt: 2025-07-11 01:36:59 -0000 (Fri, 11 Jul 2025) EllapsedTime: 193.1 seconds RetCode: 0 Status: OK PackageFile: IMMAN_1.29.0.tar.gz PackageFileSize: 31.33 KiB