Package: IMMAN Version: 1.29.0 Command: F:\biocbuild\bbs-3.22-bioc\R\bin\R.exe CMD INSTALL IMMAN StartedAt: 2025-07-21 15:48:15 -0400 (Mon, 21 Jul 2025) EndedAt: 2025-07-21 15:48:34 -0400 (Mon, 21 Jul 2025) EllapsedTime: 18.3 seconds RetCode: 0 Status: OK