Package: IMMAN Version: 1.29.0 Command: chmod a+r IMMAN -R && F:\biocbuild\bbs-3.22-bioc\R\bin\R.exe CMD build --keep-empty-dirs --no-resave-data IMMAN StartedAt: 2025-07-21 19:50:01 -0400 (Mon, 21 Jul 2025) EndedAt: 2025-07-21 19:52:10 -0400 (Mon, 21 Jul 2025) EllapsedTime: 128.8 seconds RetCode: 0 Status: OK PackageFile: IMMAN_1.29.0.tar.gz PackageFileSize: 26.46 KiB