Package: IMMAN Version: 1.29.0 Command: rm -rf IMMAN.buildbin-libdir && mkdir IMMAN.buildbin-libdir && F:\biocbuild\bbs-3.22-bioc\R\bin\R.exe CMD INSTALL --build --library=IMMAN.buildbin-libdir IMMAN_1.29.0.tar.gz StartedAt: 2025-07-22 09:20:23 -0400 (Tue, 22 Jul 2025) EndedAt: 2025-07-22 09:20:50 -0400 (Tue, 22 Jul 2025) EllapsedTime: 26.2 seconds RetCode: 0 Status: OK PackageFile: IMMAN_1.29.0.zip PackageFileSize: 64.61 KiB