Package: IMMAN Version: 1.29.0 Command: /home/biocbuild/bbs-3.22-bioc/R/bin/R CMD INSTALL IMMAN StartedAt: 2025-07-07 15:49:33 -0400 (Mon, 07 Jul 2025) EndedAt: 2025-07-07 15:49:46 -0400 (Mon, 07 Jul 2025) EllapsedTime: 12.8 seconds RetCode: 0 Status: OK