Package: IMMAN Version: 1.29.0 Command: /home/biocbuild/bbs-3.22-bioc/R/bin/R CMD check --install=check:IMMAN.install-out.txt --library=/home/biocbuild/bbs-3.22-bioc/R/site-library --timings IMMAN_1.29.0.tar.gz StartedAt: 2025-07-10 00:20:17 -0400 (Thu, 10 Jul 2025) EndedAt: 2025-07-10 00:29:56 -0400 (Thu, 10 Jul 2025) EllapsedTime: 579.5 seconds RetCode: 0 Status: OK CheckDir: IMMAN.Rcheck Warnings: 0