Package: IMAS Version: 1.33.0 Command: chmod a+r IMAS -R && F:\biocbuild\bbs-3.22-bioc\R\bin\R.exe CMD build --keep-empty-dirs --no-resave-data IMAS StartedAt: 2025-07-14 19:46:37 -0400 (Mon, 14 Jul 2025) EndedAt: 2025-07-14 19:49:35 -0400 (Mon, 14 Jul 2025) EllapsedTime: 178.7 seconds RetCode: 0 Status: OK PackageFile: IMAS_1.33.0.tar.gz PackageFileSize: 601.2 KiB