Package: IMAS Version: 1.33.0 Command: rm -rf IMAS.buildbin-libdir && mkdir IMAS.buildbin-libdir && F:\biocbuild\bbs-3.22-bioc\R\bin\R.exe CMD INSTALL --build --library=IMAS.buildbin-libdir IMAS_1.33.0.tar.gz StartedAt: 2025-07-15 09:10:03 -0400 (Tue, 15 Jul 2025) EndedAt: 2025-07-15 09:11:06 -0400 (Tue, 15 Jul 2025) EllapsedTime: 63.2 seconds RetCode: 0 Status: OK PackageFile: IMAS_1.33.0.zip PackageFileSize: 777.8 KiB