Package: ILoReg Version: 1.19.0 Command: /home/biocbuild/R/R/bin/R CMD INSTALL ILoReg StartedAt: 2025-07-14 20:35:01 -0000 (Mon, 14 Jul 2025) EndedAt: 2025-07-14 20:35:40 -0000 (Mon, 14 Jul 2025) EllapsedTime: 39.7 seconds RetCode: 0 Status: OK