Package: ILoReg Version: 1.19.0 Command: F:\biocbuild\bbs-3.22-bioc\R\bin\R.exe CMD INSTALL ILoReg StartedAt: 2025-07-24 16:16:05 -0400 (Thu, 24 Jul 2025) EndedAt: 2025-07-24 16:16:59 -0400 (Thu, 24 Jul 2025) EllapsedTime: 53.7 seconds RetCode: 0 Status: OK