Package: ILoReg Version: 1.19.0 Command: /Library/Frameworks/R.framework/Resources/bin/R CMD INSTALL ILoReg StartedAt: 2025-07-07 15:20:46 -0400 (Mon, 07 Jul 2025) EndedAt: 2025-07-07 15:21:26 -0400 (Mon, 07 Jul 2025) EllapsedTime: 39.7 seconds RetCode: 0 Status: OK