Package: ILoReg Version: 1.19.0 Command: /Library/Frameworks/R.framework/Resources/bin/R CMD check --install=check:ILoReg.install-out.txt --library=/Library/Frameworks/R.framework/Resources/library --no-vignettes --timings ILoReg_1.19.0.tar.gz StartedAt: 2025-07-07 21:21:00 -0400 (Mon, 07 Jul 2025) EndedAt: 2025-07-07 21:26:38 -0400 (Mon, 07 Jul 2025) EllapsedTime: 338.0 seconds RetCode: 0 Status: WARNINGS CheckDir: ILoReg.Rcheck Warnings: 2