Package: ILoReg Version: 1.19.0 Command: /Library/Frameworks/R.framework/Resources/bin/R CMD build --keep-empty-dirs --no-resave-data ILoReg StartedAt: 2025-07-07 17:16:36 -0400 (Mon, 07 Jul 2025) EndedAt: 2025-07-07 17:19:41 -0400 (Mon, 07 Jul 2025) EllapsedTime: 185.8 seconds RetCode: 0 Status: OK PackageFile: ILoReg_1.19.0.tar.gz PackageFileSize: 2.746 MiB