Package: ILoReg Version: 1.19.0 Command: rm -rf ILoReg.buildbin-libdir && mkdir ILoReg.buildbin-libdir && /Users/biocbuild/BBS/utils/build-universal.sh ILoReg_1.19.0.tar.gz /Library/Frameworks/R.framework/Resources/bin/R ILoReg.buildbin-libdir StartedAt: 2025-07-08 00:57:54 -0400 (Tue, 08 Jul 2025) EndedAt: 2025-07-08 00:58:39 -0400 (Tue, 08 Jul 2025) EllapsedTime: 45.3 seconds RetCode: 0 Status: OK PackageFile: ILoReg_1.19.0.tgz PackageFileSize: 3.111 MiB