Package: ILoReg Version: 1.19.0 Command: /Library/Frameworks/R.framework/Resources/bin/R CMD INSTALL ILoReg StartedAt: 2025-07-13 15:11:22 -0400 (Sun, 13 Jul 2025) EndedAt: 2025-07-13 15:11:35 -0400 (Sun, 13 Jul 2025) EllapsedTime: 12.6 seconds RetCode: 0 Status: OK