Package: ILoReg Version: 1.19.0 Command: /Library/Frameworks/R.framework/Resources/bin/R CMD build --keep-empty-dirs --no-resave-data ILoReg StartedAt: 2025-07-13 16:37:59 -0400 (Sun, 13 Jul 2025) EndedAt: 2025-07-13 16:38:58 -0400 (Sun, 13 Jul 2025) EllapsedTime: 58.6 seconds RetCode: 0 Status: OK PackageFile: ILoReg_1.19.0.tar.gz PackageFileSize: 2.753 MiB