Package: IHW Version: 1.37.0 Command: rm -rf IHW.buildbin-libdir && mkdir IHW.buildbin-libdir && F:\biocbuild\bbs-3.22-bioc\R\bin\R.exe CMD INSTALL --build --library=IHW.buildbin-libdir IHW_1.37.0.tar.gz StartedAt: 2025-07-25 09:29:16 -0400 (Fri, 25 Jul 2025) EndedAt: 2025-07-25 09:30:01 -0400 (Fri, 25 Jul 2025) EllapsedTime: 44.9 seconds RetCode: 0 Status: OK PackageFile: IHW_1.37.0.zip PackageFileSize: 1.634 MiB