Package: IFAA Version: 1.11.0 Command: /Library/Frameworks/R.framework/Resources/bin/R CMD INSTALL IFAA StartedAt: 2025-07-13 15:17:20 -0400 (Sun, 13 Jul 2025) EndedAt: 2025-07-13 15:17:30 -0400 (Sun, 13 Jul 2025) EllapsedTime: 10.8 seconds RetCode: 0 Status: OK