Package: HybridMTest Version: 1.53.0 Command: chmod a+r HybridMTest -R && F:\biocbuild\bbs-3.22-bioc\R\bin\R.exe CMD build --keep-empty-dirs --no-resave-data HybridMTest StartedAt: 2025-07-24 19:55:53 -0400 (Thu, 24 Jul 2025) EndedAt: 2025-07-24 19:56:10 -0400 (Thu, 24 Jul 2025) EllapsedTime: 16.9 seconds RetCode: 0 Status: OK PackageFile: HybridMTest_1.53.0.tar.gz PackageFileSize: 172.3 KiB