Package: HybridMTest Version: 1.53.0 Command: /Library/Frameworks/R.framework/Resources/bin/R CMD check --install=check:HybridMTest.install-out.txt --library=/Library/Frameworks/R.framework/Resources/library --no-vignettes --timings HybridMTest_1.53.0.tar.gz StartedAt: 2025-07-14 21:23:00 -0400 (Mon, 14 Jul 2025) EndedAt: 2025-07-14 21:23:42 -0400 (Mon, 14 Jul 2025) EllapsedTime: 41.6 seconds RetCode: 0 Status: OK CheckDir: HybridMTest.Rcheck Warnings: 0