Package: HybridMTest Version: 1.53.0 Command: /Library/Frameworks/R.framework/Resources/bin/R CMD build --keep-empty-dirs --no-resave-data HybridMTest StartedAt: 2025-07-14 17:17:40 -0400 (Mon, 14 Jul 2025) EndedAt: 2025-07-14 17:17:54 -0400 (Mon, 14 Jul 2025) EllapsedTime: 14.9 seconds RetCode: 0 Status: OK PackageFile: HybridMTest_1.53.0.tar.gz PackageFileSize: 171.8 KiB