Package: HybridMTest Version: 1.53.0 Command: rm -rf HybridMTest.buildbin-libdir && mkdir HybridMTest.buildbin-libdir && /Users/biocbuild/BBS/utils/build-universal.sh HybridMTest_1.53.0.tar.gz /Library/Frameworks/R.framework/Resources/bin/R HybridMTest.buildbin-libdir StartedAt: 2025-06-29 22:21:21 -0400 (Sun, 29 Jun 2025) EndedAt: 2025-06-29 22:21:24 -0400 (Sun, 29 Jun 2025) EllapsedTime: 3.1 seconds RetCode: 0 Status: OK PackageFile: HybridMTest_1.53.0.tgz PackageFileSize: 236 KiB