Package: HybridExpress Version: 1.5.0 Command: chmod a+r HybridExpress -R && F:\biocbuild\bbs-3.22-bioc\R\bin\R.exe CMD build --keep-empty-dirs --no-resave-data HybridExpress StartedAt: 2025-07-24 19:55:47 -0400 (Thu, 24 Jul 2025) EndedAt: 2025-07-24 19:58:36 -0400 (Thu, 24 Jul 2025) EllapsedTime: 169.3 seconds RetCode: 0 Status: OK PackageFile: HybridExpress_1.5.0.tar.gz PackageFileSize: 2.384 MiB