Package: HybridExpress Version: 1.5.0 Command: /home/biocbuild/bbs-3.22-bioc/R/bin/R CMD INSTALL HybridExpress StartedAt: 2025-07-01 15:20:27 -0400 (Tue, 01 Jul 2025) EndedAt: 2025-07-01 15:20:51 -0400 (Tue, 01 Jul 2025) EllapsedTime: 24.5 seconds RetCode: 0 Status: OK