Package: HybridExpress Version: 1.5.0 Command: /home/biocbuild/bbs-3.22-bioc/R/bin/R CMD check --install=check:HybridExpress.install-out.txt --library=/home/biocbuild/bbs-3.22-bioc/R/site-library --timings HybridExpress_1.5.0.tar.gz StartedAt: 2025-07-01 23:12:57 -0400 (Tue, 01 Jul 2025) EndedAt: 2025-07-01 23:17:39 -0400 (Tue, 01 Jul 2025) EllapsedTime: 282.3 seconds RetCode: 0 Status: OK CheckDir: HybridExpress.Rcheck Warnings: 0