Package: HybridExpress Version: 1.5.0 Command: /home/biocbuild/bbs-3.22-bioc/R/bin/R CMD build --keep-empty-dirs --no-resave-data --md5 HybridExpress StartedAt: 2025-07-01 17:38:29 -0400 (Tue, 01 Jul 2025) EndedAt: 2025-07-01 17:39:43 -0400 (Tue, 01 Jul 2025) EllapsedTime: 74.1 seconds RetCode: 0 Status: OK PackageFile: HybridExpress_1.5.0.tar.gz PackageFileSize: 3.229 MiB