Package: HybridExpress Version: 1.5.0 Command: /Library/Frameworks/R.framework/Resources/bin/R CMD check --install=check:HybridExpress.install-out.txt --library=/Library/Frameworks/R.framework/Resources/library --no-vignettes --timings HybridExpress_1.5.0.tar.gz StartedAt: 2025-07-21 21:20:15 -0400 (Mon, 21 Jul 2025) EndedAt: 2025-07-21 21:24:33 -0400 (Mon, 21 Jul 2025) EllapsedTime: 257.9 seconds RetCode: 0 Status: OK CheckDir: HybridExpress.Rcheck Warnings: 0