Package: HybridExpress Version: 1.5.0 Command: /Library/Frameworks/R.framework/Resources/bin/R CMD build --keep-empty-dirs --no-resave-data HybridExpress StartedAt: 2025-07-21 17:07:48 -0400 (Mon, 21 Jul 2025) EndedAt: 2025-07-21 17:09:11 -0400 (Mon, 21 Jul 2025) EllapsedTime: 82.5 seconds RetCode: 0 Status: OK PackageFile: HybridExpress_1.5.0.tar.gz PackageFileSize: 3.411 MiB