Package: HybridExpress Version: 1.5.0 Command: rm -rf HybridExpress.buildbin-libdir && mkdir HybridExpress.buildbin-libdir && /Users/biocbuild/BBS/utils/build-universal.sh HybridExpress_1.5.0.tar.gz /Library/Frameworks/R.framework/Resources/bin/R HybridExpress.buildbin-libdir StartedAt: 2025-07-22 01:05:56 -0400 (Tue, 22 Jul 2025) EndedAt: 2025-07-22 01:06:34 -0400 (Tue, 22 Jul 2025) EllapsedTime: 38.5 seconds RetCode: 0 Status: OK PackageFile: HybridExpress_1.5.0.tgz PackageFileSize: 3.462 MiB