Package: HubPub Version: 1.17.1 Command: /Library/Frameworks/R.framework/Resources/bin/R CMD INSTALL HubPub StartedAt: 2025-07-01 15:25:57 -0400 (Tue, 01 Jul 2025) EndedAt: 2025-07-01 15:26:06 -0400 (Tue, 01 Jul 2025) EllapsedTime: 8.9 seconds RetCode: 0 Status: OK