Package: HubPub Version: 1.17.1 Command: /Library/Frameworks/R.framework/Resources/bin/R CMD build --keep-empty-dirs --no-resave-data HubPub StartedAt: 2025-07-01 17:19:38 -0400 (Tue, 01 Jul 2025) EndedAt: 2025-07-01 17:20:17 -0400 (Tue, 01 Jul 2025) EllapsedTime: 39.1 seconds RetCode: 0 Status: OK PackageFile: HubPub_1.17.1.tar.gz PackageFileSize: 549.3 KiB