Package: HubPub Version: 1.17.1 Command: rm -rf HubPub.buildbin-libdir && mkdir HubPub.buildbin-libdir && /Users/biocbuild/BBS/utils/build-universal.sh HubPub_1.17.1.tar.gz /Library/Frameworks/R.framework/Resources/bin/R HubPub.buildbin-libdir StartedAt: 2025-07-02 01:01:50 -0400 (Wed, 02 Jul 2025) EndedAt: 2025-07-02 01:01:59 -0400 (Wed, 02 Jul 2025) EllapsedTime: 9.3 seconds RetCode: 0 Status: OK PackageFile: HubPub_1.17.1.tgz PackageFileSize: 557.5 KiB